BEGIN:VCALENDAR
VERSION:2.0
PRODID:-//eventon.com NONSGML v1.0//EN
CALSCALE:GREGORIAN
METHOD:PUBLISH
BEGIN:VEVENT
UID:69eb6be756eb3
DTSTAMP:20260424T131103Z
DTSTART:20260429T103000Z
DTEND:20260429T145000Z
LOCATION:
SUMMARY:Easy Machine 
DESCRIPTION:Easy Machine \nhttps://crawfish.jp/events/easy-machine/
URL:https://crawfish.jp/events/easy-machine/
END:VEVENT
END:VCALENDAR