BEGIN:VCALENDAR
VERSION:2.0
PRODID:-//eventon.com NONSGML v1.0//EN
CALSCALE:GREGORIAN
METHOD:PUBLISH
BEGIN:VEVENT
UID:69e75764d6e7b
DTSTAMP:20260421T105428Z
DTSTART:20260408T103000Z
DTEND:20260408T145000Z
LOCATION:
SUMMARY:岩本晃良カルテット
DESCRIPTION:岩本晃良カルテット\nhttps://crawfish.jp/events/%e5%b2%
 a9%e6%9c%ac%e6%99%83%e8%89%af%e3%82%ab%e3%83%ab%e3%83%86%e3%83%83%e3%83%88/
URL:https://crawfish.jp/events/%e5%b2%a9%e6%9c%ac%e6%99%83%e8%89%af%e3%82%ab%e3%83%ab%e3%83%86%e3%83%83%e3%83%88/
END:VEVENT
END:VCALENDAR