BEGIN:VCALENDAR
VERSION:2.0
PRODID:-//eventon.com NONSGML v1.0//EN
CALSCALE:GREGORIAN
METHOD:PUBLISH
BEGIN:VEVENT
UID:69e5846a73ec0
DTSTAMP:20260420T014202Z
DTSTART:20260423T103000Z
DTEND:20260423T145000Z
LOCATION:
SUMMARY:Beatles Night
DESCRIPTION:Beatles Night\nhttps://crawfish.jp/events/beatles-night-4/
URL:https://crawfish.jp/events/beatles-night-4/
END:VEVENT
END:VCALENDAR