BEGIN:VCALENDAR
VERSION:2.0
PRODID:-//eventon.com NONSGML v1.0//EN
CALSCALE:GREGORIAN
METHOD:PUBLISH
BEGIN:VEVENT
UID:69eb6b8f299fa
DTSTAMP:20260424T130935Z
DTSTART:20260429T040000Z
DTEND:20260429T145000Z
LOCATION:
SUMMARY:Alte FaBRik
DESCRIPTION:Alte FaBRik\nhttps://crawfish.jp/events/alte-fabrik-4/
URL:https://crawfish.jp/events/alte-fabrik-4/
END:VEVENT
END:VCALENDAR