BEGIN:VCALENDAR
VERSION:2.0
PRODID:-//eventon.com NONSGML v1.0//EN
CALSCALE:GREGORIAN
METHOD:PUBLISH
BEGIN:VEVENT
UID:69eb6b21ef3f1
DTSTAMP:20260424T130745Z
DTSTART:20260509T103000Z
DTEND:20260509T145000Z
LOCATION:
SUMMARY:444 vol.6
DESCRIPTION:444 vol.6\nhttps://crawfish.jp/events/444-vol-6/
URL:https://crawfish.jp/events/444-vol-6/
END:VEVENT
END:VCALENDAR